BEGIN:VCALENDAR
VERSION:2.0
PRODID:-//Creative Collective - ECPv6.15.20//NONSGML v1.0//EN
CALSCALE:GREGORIAN
METHOD:PUBLISH
X-ORIGINAL-URL:https://creativecollectivema.com
X-WR-CALDESC:Events for Creative Collective
REFRESH-INTERVAL;VALUE=DURATION:PT1H
X-Robots-Tag:noindex
X-PUBLISHED-TTL:PT1H
BEGIN:VTIMEZONE
TZID:America/New_York
BEGIN:DAYLIGHT
TZOFFSETFROM:-0500
TZOFFSETTO:-0400
TZNAME:EDT
DTSTART:20250309T070000
END:DAYLIGHT
BEGIN:STANDARD
TZOFFSETFROM:-0400
TZOFFSETTO:-0500
TZNAME:EST
DTSTART:20251102T060000
END:STANDARD
BEGIN:DAYLIGHT
TZOFFSETFROM:-0500
TZOFFSETTO:-0400
TZNAME:EDT
DTSTART:20260308T070000
END:DAYLIGHT
BEGIN:STANDARD
TZOFFSETFROM:-0400
TZOFFSETTO:-0500
TZNAME:EST
DTSTART:20261101T060000
END:STANDARD
BEGIN:DAYLIGHT
TZOFFSETFROM:-0500
TZOFFSETTO:-0400
TZNAME:EDT
DTSTART:20270314T070000
END:DAYLIGHT
BEGIN:STANDARD
TZOFFSETFROM:-0400
TZOFFSETTO:-0500
TZNAME:EST
DTSTART:20271107T060000
END:STANDARD
END:VTIMEZONE
BEGIN:VEVENT
DTSTART;TZID=America/New_York:20260422T090000
DTEND;TZID=America/New_York:20260422T160000
DTSTAMP:20260422T065854
CREATED:20260402T150900Z
LAST-MODIFIED:20260419T045952Z
UID:10063972-1776848400-1776873600@creativecollectivema.com
SUMMARY:Creative Kids: Knowing Nature
DESCRIPTION:Creative Kids: Knowing Nature will engage students ages 11–13 with PEM’s current exhibition Knowing Nature: Stories of the Boreal Forest and the interactive Art & Nature Center. Students will spend the week exploring themes of the natural world\, trekking through the gardens and green spaces on PEM’s campus and making art\, writing and creating multimedia works in response to their experiences. \nProgram is one week long. Program runs Monday\, April 20–Friday\, April 24\, 2026.
URL:https://creativecollectivema.com/event/creative-kids-knowing-nature/2026-04-22/
LOCATION:Peabody Essex Museum\, 161 Essex Street\, Salem\, MA\, 01970\, United States
CATEGORIES:Art,Family,Museums & Attractions
ATTACH;FMTTYPE=image/jpeg:https://creativecollectivema.com/wp-content/uploads/2026/04/Knowing-Nature-VG0BgM.jpg
END:VEVENT
BEGIN:VEVENT
DTSTART;TZID=America/New_York:20260423T110000
DTEND;TZID=America/New_York:20260423T150000
DTSTAMP:20260422T065854
CREATED:20260402T151136Z
LAST-MODIFIED:20260402T151136Z
UID:10061042-1776942000-1776956400@creativecollectivema.com
SUMMARY:Cedar Bark Mat Weaving Demonstration
DESCRIPTION:Join artist Elizabeth James-Perry (Aquinnah Wampanoag) for a demonstration of the Native American art practice of weaving a mat from the inner bark of a cedar tree. After the session\, see her nature-based artworks featured in the Knowing Nature exhibition. James-Perry\, a restoration ecologist\, will also discuss how she sustainably harvests and prepares natural materials from the forest\, including plant dyes\, for her artworks. \n\nElizabeth James-Perry (Aquinnah Wampanoag) engages with Northeastern Woodlands Native cultural expressions\, primarily in sculptural forms of wampum shell carving\, twined basketry and bead making\, with connections to identity and sovereignty\, maritime traditions and restorative Native gardening.
URL:https://creativecollectivema.com/event/cedar-bark-mat-weaving-demonstration/
LOCATION:Peabody Essex Museum\, 161 Essex Street\, Salem\, MA\, 01970\, United States
CATEGORIES:Art,Museums & Attractions
ATTACH;FMTTYPE=image/jpeg:https://creativecollectivema.com/wp-content/uploads/2026/04/Cedar-Bark-Mat-Weaving-Demonstration-bMcs5i.jpg
END:VEVENT
BEGIN:VEVENT
DTSTART;TZID=America/New_York:20260425T140000
DTEND;TZID=America/New_York:20260425T150000
DTSTAMP:20260422T065854
CREATED:20260406T045942Z
LAST-MODIFIED:20260406T045942Z
UID:10061285-1777125600-1777129200@creativecollectivema.com
SUMMARY:Field Studies (Symbiosis) Performance and Q&A
DESCRIPTION:Field Studies (Symbiosis) looks at forest ecology from a variety of perspectives\, beginning with an aerial overview of the Canadian Boreal Forest and moving through the dynamic processes that shape the landscape\, including wind\, water\, pollination and the hidden forest communication channels of the micro-rhizomes in the soil. Three multidisciplinary artists collaborated over nine months and completed a weeklong residency at PEM to produce this 30-minute performance-based installation. Their project engaged the natural world through deep investigations of the land\, siting filming in the wild and collaborating with natural scientists.
URL:https://creativecollectivema.com/event/field-studies-symbiosis-performance-and-qa/
LOCATION:Peabody Essex Museum\, 161 Essex Street\, Salem\, MA\, 01970\, United States
CATEGORIES:Art,Community,Museums & Attractions
ATTACH;FMTTYPE=image/jpeg:https://creativecollectivema.com/wp-content/uploads/2026/04/Field-Studies-Symbiosis-Performance-and-QA-u4T3Zk.jpg
END:VEVENT
BEGIN:VEVENT
DTSTART;TZID=America/New_York:20260426T100000
DTEND;TZID=America/New_York:20260426T110000
DTSTAMP:20260422T065854
CREATED:20260411T020725Z
LAST-MODIFIED:20260411T020725Z
UID:10061425-1777197600-1777201200@creativecollectivema.com
SUMMARY:Whydah Day Commemoration
DESCRIPTION:A moment of silence for local seafarers lost at sea\, and their families.\nOn Sunday\, April 26\, the 309th anniversary of the sinking of the Whydah Gally\, Real Pirates Salem will host a commemorative ceremony honoring sailors lost at sea. The ceremony will take place at 10:00 AM outside the museum in Charlotte Forten Park.\nThe museum will be open from 10:00 AM to 5:00 PM\, with last entry at 4:30 PM\, and will offer discounted admission for the day.
URL:https://creativecollectivema.com/event/whydah-day-commemoration/
LOCATION:Real Pirates\, 275 Derby St\, Salem\, MA\, United States
CATEGORIES:Community,History,Museums & Attractions,Salem 400+
ATTACH;FMTTYPE=image/jpeg:https://creativecollectivema.com/wp-content/uploads/2026/04/Whydah-Day-Commemoration-1-e1775764646536-whNzgR.jpg
GEO:42.520699;-70.890113
X-APPLE-STRUCTURED-LOCATION;VALUE=URI;X-ADDRESS=Real Pirates 275 Derby St Salem MA United States;X-APPLE-RADIUS=500;X-TITLE=275 Derby St:geo:-70.890113,42.520699
END:VEVENT
BEGIN:VEVENT
DTSTART;TZID=America/New_York:20260426T140000
DTEND;TZID=America/New_York:20260426T150000
DTSTAMP:20260422T065854
CREATED:20260406T045950Z
LAST-MODIFIED:20260406T045950Z
UID:10061286-1777212000-1777215600@creativecollectivema.com
SUMMARY:Field Studies (Symbiosis) Performance and Q&A
DESCRIPTION:Field Studies (Symbiosis) looks at forest ecology from a variety of perspectives\, beginning with an aerial overview of the Canadian Boreal Forest and moving through the dynamic processes that shape the landscape\, including wind\, water\, pollination and the hidden forest communication channels of the micro-rhizomes in the soil. Three multidisciplinary artists collaborated over nine months and completed a weeklong residency at PEM to produce this 30-minute performance-based installation. Their project engaged the natural world through deep investigations of the land\, siting filming in the wild and collaborating with natural scientists.
URL:https://creativecollectivema.com/event/field-studies-symbiosis-performance-and-qa-2/
LOCATION:Peabody Essex Museum\, 161 Essex Street\, Salem\, MA\, 01970\, United States
CATEGORIES:Art,Community,Museums & Attractions
ATTACH;FMTTYPE=image/jpeg:https://creativecollectivema.com/wp-content/uploads/2026/04/Field-Studies-Symbiosis-Performance-and-QA-u4T3Zk.jpg
END:VEVENT
BEGIN:VEVENT
DTSTART;TZID=America/New_York:20260509T103000
DTEND;TZID=America/New_York:20260509T153000
DTSTAMP:20260422T065854
CREATED:20260402T151216Z
LAST-MODIFIED:20260402T151216Z
UID:10061048-1778322600-1778340600@creativecollectivema.com
SUMMARY:Creative Foundations: Cyanotypes
DESCRIPTION:Celebrate Knowing Nature: Stories of the Boreal Forest with a guided tour and workshop! \nFirst\, go inside the exhibition with Jane Winchell\, PEM’s Sarah Fraser Robbins Director of The Dotty Brown Art & Nature Center and Curator of Natural History\, and discover the biodiversity and global importance of our northernmost forests. Afterward\, join artist Patricia Scialo to learn how to make cyanotype prints: a “cameraless photography” technique using treated paper that chemically reacts to sunlight. Reflect on the exhibition and your own connection to nature by creating\, exposing and processing your cyanotype print. This workshop will also provide resources\, ideas and methods to further explore cyanotypes at home. \nThis class is perfect for beginners or those returning to art after a break. All supplies are provided\, and participants will take home essential materials so they can continue practicing at home.
URL:https://creativecollectivema.com/event/creative-foundations-cyanotypes/
LOCATION:Peabody Essex Museum\, 161 Essex Street\, Salem\, MA\, 01970\, United States
CATEGORIES:Art,Entertainment,Museums & Attractions
ATTACH;FMTTYPE=image/jpeg:https://creativecollectivema.com/wp-content/uploads/2026/04/Creative-Foundations-Cyanotypes-tp5IPf.jpg
END:VEVENT
END:VCALENDAR