BEGIN:VCALENDAR
VERSION:2.0
PRODID:-//Creative Collective - ECPv6.15.20//NONSGML v1.0//EN
CALSCALE:GREGORIAN
METHOD:PUBLISH
X-WR-CALNAME:Creative Collective
X-ORIGINAL-URL:https://creativecollectivema.com
X-WR-CALDESC:Events for Creative Collective
REFRESH-INTERVAL;VALUE=DURATION:PT1H
X-Robots-Tag:noindex
X-PUBLISHED-TTL:PT1H
BEGIN:VTIMEZONE
TZID:America/New_York
BEGIN:DAYLIGHT
TZOFFSETFROM:-0500
TZOFFSETTO:-0400
TZNAME:EDT
DTSTART:20250309T070000
END:DAYLIGHT
BEGIN:STANDARD
TZOFFSETFROM:-0400
TZOFFSETTO:-0500
TZNAME:EST
DTSTART:20251102T060000
END:STANDARD
BEGIN:DAYLIGHT
TZOFFSETFROM:-0500
TZOFFSETTO:-0400
TZNAME:EDT
DTSTART:20260308T070000
END:DAYLIGHT
BEGIN:STANDARD
TZOFFSETFROM:-0400
TZOFFSETTO:-0500
TZNAME:EST
DTSTART:20261101T060000
END:STANDARD
BEGIN:DAYLIGHT
TZOFFSETFROM:-0500
TZOFFSETTO:-0400
TZNAME:EDT
DTSTART:20270314T070000
END:DAYLIGHT
BEGIN:STANDARD
TZOFFSETFROM:-0400
TZOFFSETTO:-0500
TZNAME:EST
DTSTART:20271107T060000
END:STANDARD
END:VTIMEZONE
BEGIN:VEVENT
DTSTART;VALUE=DATE:20260420
DTEND;VALUE=DATE:20260427
DTSTAMP:20260422T065539
CREATED:20260416T225552Z
LAST-MODIFIED:20260416T230212Z
UID:10063109-1776643200-1777247999@creativecollectivema.com
SUMMARY:Upcoming Programs – Week of April 20th\, 2026
DESCRIPTION:Mon 4/20 & Tues 4/21: Happy Spring Break! As a reminder\, we are OPEN on Monday\, April 20 and Tuesday\, April 21 for a full week of spring fun! \nWed 4/22: We’re partnering with Create & Escape to bring you this fun-filled crafting workshop! Join us on Wednesday\, April 22nd at 10am to build and paint wooden flowers – a perfect craft for the springtime! \nThurs 4/23: Join us for Art Adventures with Pam! This week\, we’re heading over to Niagara Falls to relax with some beautiful waterfalls. \nFri 4/24: Join InclYOUsion Sports coaches here at NSCM at 10AM for a fun sports program. Inclyousion Sports provides inclusive sports enrichment programs to children in Massachusetts\, using innovative behavioral methods to teach sports\, fitness\, and social skills.  \nSat 4/25: Ahoy\, mateys! Embrace your inner pirate with Rachel Skullcap: Lady Pirate! Join us on Saturday\, April 25th at 10am for an adventure to remember! \nSun 4/26: Join us in the back party room anytime between 12PM and 4PM on Sunday to try your hand at Lego Challenge! There will also be time for free building. Guests who attempt the challenge will get a Lego themed sticker to take home. \nChildren’s programs are free with admission to the coinciding play session unless otherwise designated. Tickets are subject to availability.
URL:https://creativecollectivema.com/event/upcoming-programs-week-of-april-20th-2026/
LOCATION:North Shore Children’s Museum\, 10 Main St\, Peabody\, MA\, 01960\, United States
CATEGORIES:Arts/Culture,Crafts,Exhibits,Family,Free,Kids,Lego,Museums,Peabody,Pirate,Sports,STEAM
ATTACH;FMTTYPE=image/png:https://creativecollectivema.com/wp-content/uploads/2026/04/This-week-in-programs-4.20.2026-1.png
ORGANIZER;CN="North Shore Children's Museum":MAILTO:nscminfo@peabody-ma.gov
END:VEVENT
BEGIN:VEVENT
DTSTART;TZID=America/New_York:20260422T103000
DTEND;TZID=America/New_York:20260422T123000
DTSTAMP:20260422T065539
CREATED:20260301T050823Z
LAST-MODIFIED:20260301T050823Z
UID:10058932-1776853800-1776861000@creativecollectivema.com
SUMMARY:Director’s Tour Experience
DESCRIPTION:Personal guided tour of the museum with one of our knowledgeable pirates\, who will give you the “ins and outs” of the museum – including facts that might otherwise pass you by. Gold coin for each member of your boarding party that secures you $5 off $10 or more in our Plundered Goods gift shop. Complimentary postcard with access to an audio tour of the shipwreck recovery narrated by discoverer Barry Clifford. \nVoyage through pirate history with a museum over 300 years in the making! Real Pirates Salem features real artifacts and treasure from the shipwrecked Whydah Gally. From lore to legendary find\, see and touch the world’s only authenticated pirate treasure ever discovered – including coins\, cannons\, and weapons – recovered from the ocean floor by underwater explorer Barry Clifford. \nExperience includes: Two free photo booth memory moments\, so that you can download and take your journey home with you. Interactive stations to test your pirate abilities and a spot to touch real silver pieces of eight discovered at the Whydah wreck site. Exploration of the Discovery Lab to learn about the archaeological preservation process of centuries-old artifacts pulled from the depths.
URL:https://creativecollectivema.com/event/directors-tour-experience-8/2026-04-22/
LOCATION:Real Pirates Museum\, 285 Derby Street\, Salem\, 01970
CATEGORIES:All Ages,Arts/Culture,Family,Heritage,History,Kids,Museums,Pirate,Salem,Special Tour,Tour
ATTACH;FMTTYPE=image/jpeg:https://creativecollectivema.com/wp-content/uploads/2025/08/306088669_128629746599408_5652453212971783908_n.jpg
ORGANIZER;CN="Real Pirates Salem":MAILTO:info@realpiratessalem.com
END:VEVENT
BEGIN:VEVENT
DTSTART;TZID=America/New_York:20260425T100000
DTEND;TZID=America/New_York:20260425T183000
DTSTAMP:20260422T065539
CREATED:20260417T034620Z
LAST-MODIFIED:20260417T034620Z
UID:10063313-1777111200-1777141800@creativecollectivema.com
SUMMARY:Witch Pix Pirates Battle Posters Photobooth
DESCRIPTION:EVENT OVERVIEW \nThe waterfront history of Salem comes alive as Captain Black Sam \nBellamy’s crew of pirates go toe-to-toe against Captain John Turner’s pirate hunters.  As participants learn\, shop\, and play up and down Derby Street\, they will be able to tip the battle toward their chosen side before the dramatic conclusion at the end of the day. \n⚓ All hands welcome. All ages encouraged. 🏴‍☠️ \n\n\n\nMeet THE RIVALS \nCaptain Sam BellamyKnown as the “Robin Hood of the Sea\,” the pirate Bellamy is clever\, fearless\, and beloved by his loyal crew. After serving with Blackbeard in the Caribbean\, Bellamy has now sailed back for New England. He believes the seas belong to those brave enough to take them\, and won’t back down from a fight!Captain John TurnerAs commander of a fleet of merchant ships traveling the world\, John Turner is Salem Harbor’s fierce protector. Having already played a part in bringing pirate John Quelch to the gallows\, Turner now sets his sights on a new threat—Sam Bellamy.Choose your side! \nPick your favorite captain and visit their recruiting station to collect your treasure map. \nIn-person registration will be held day of at Charlotte Forten Park (289 Derby Street) on Saturday\, April 25th. ​ \n​Choose your side – Choose your BATTLE POSTER \nPose for you PERSONALIZED BATTLE POSTER! \nWill you be a WANTED PIRATE along with Capt. Sam Bellamy or a BRAVE HUNTER and pledge alligiance to Captain John Turner?  \nJoin Witch Pix for a costume\, pose\, shoot!  Take home personalized printed poster portrait from our Witch Pix Photobooth staff of seafaring photographers.
URL:https://creativecollectivema.com/event/witch-pix-pirates-battle-posters-photobooth/
LOCATION:Witch Pix\, 172 Essex Street\, Salem\, MA\, 01970\, United States
CATEGORIES:Photography,Pirate,Salem
ATTACH;FMTTYPE=image/avif:https://creativecollectivema.com/wp-content/uploads/2026/04/Kids-Vacation-Web-Square-1.avif
ORGANIZER;CN="Witch Pix":MAILTO:manager@witchpix.com
END:VEVENT
BEGIN:VEVENT
DTSTART;TZID=America/New_York:20260425T130000
DTEND;TZID=America/New_York:20260425T140000
DTSTAMP:20260422T065539
CREATED:20260417T024434Z
LAST-MODIFIED:20260417T024434Z
UID:10063190-1777122000-1777125600@creativecollectivema.com
SUMMARY:Real Pirates Salem Kids Tour
DESCRIPTION:Set sail through Salem’s haunted harbor history!\nJoin Salem Kids Tours for a thrilling 75-minute walking tour filled with daring privateers\, fierce sea captains\, mysterious ghost ships\, castaways\, and true tales from the dark and stormy sea. Discover how the ocean made Salem rich… and how it sometimes refused to give its sailors back.\nHear the legend of ships lost without a trace. Meet Salem’s “legal pirates.” Stand beneath grand captains’ mansions built from global voyages. And listen for phantom sails in the fog…\nDesigned for children ages 6–14 (and their grown-ups)\, this adventure blends real history with dramatic storytelling — just the right amount of spooky for brave young sailors.\n🏴‍☠️ Pirate attire is highly encouraged!\n⚓ Bring your imagination.\n🌫️ And keep your eyes on the horizon…\nBecause in Salem\, the sea still has stories to tell.
URL:https://creativecollectivema.com/event/real-pirates-salem-kids-tour/
LOCATION:Salem
CATEGORIES:Family,Kids,Pirate,Salem,Tour
ATTACH;FMTTYPE=image/webp:https://creativecollectivema.com/wp-content/uploads/2026/04/Pirate-Tour.webp
ORGANIZER;CN="Salem Kids Tours":MAILTO:alicia@bostonkidstours.com
END:VEVENT
BEGIN:VEVENT
DTSTART;TZID=America/New_York:20260427T103000
DTEND;TZID=America/New_York:20260427T123000
DTSTAMP:20260422T065539
CREATED:20260301T050941Z
LAST-MODIFIED:20260301T050941Z
UID:10058944-1777285800-1777293000@creativecollectivema.com
SUMMARY:Director’s Tour Experience
DESCRIPTION:Personal guided tour of the museum with one of our knowledgeable pirates\, who will give you the “ins and outs” of the museum – including facts that might otherwise pass you by. Gold coin for each member of your boarding party that secures you $5 off $10 or more in our Plundered Goods gift shop. Complimentary postcard with access to an audio tour of the shipwreck recovery narrated by discoverer Barry Clifford. \nVoyage through pirate history with a museum over 300 years in the making! Real Pirates Salem features real artifacts and treasure from the shipwrecked Whydah Gally. From lore to legendary find\, see and touch the world’s only authenticated pirate treasure ever discovered – including coins\, cannons\, and weapons – recovered from the ocean floor by underwater explorer Barry Clifford. \nExperience includes: Two free photo booth memory moments\, so that you can download and take your journey home with you. Interactive stations to test your pirate abilities and a spot to touch real silver pieces of eight discovered at the Whydah wreck site. Exploration of the Discovery Lab to learn about the archaeological preservation process of centuries-old artifacts pulled from the depths.
URL:https://creativecollectivema.com/event/directors-tour-experience-9/2026-04-27/
LOCATION:Real Pirates Museum\, 285 Derby Street\, Salem\, 01970
CATEGORIES:All Ages,Arts/Culture,Family,Heritage,History,Kids,Museums,Pirate,Salem,Special Tour,Tour
ATTACH;FMTTYPE=image/jpeg:https://creativecollectivema.com/wp-content/uploads/2025/08/306088669_128629746599408_5652453212971783908_n.jpg
ORGANIZER;CN="Real Pirates Salem":MAILTO:info@realpiratessalem.com
END:VEVENT
BEGIN:VEVENT
DTSTART;TZID=America/New_York:20260504T103000
DTEND;TZID=America/New_York:20260504T123000
DTSTAMP:20260422T065539
CREATED:20260301T051107Z
LAST-MODIFIED:20260301T051107Z
UID:10058958-1777890600-1777897800@creativecollectivema.com
SUMMARY:Director’s Tour Experience
DESCRIPTION:Personal guided tour of the museum with one of our knowledgeable pirates\, who will give you the “ins and outs” of the museum – including facts that might otherwise pass you by. Gold coin for each member of your boarding party that secures you $5 off $10 or more in our Plundered Goods gift shop. Complimentary postcard with access to an audio tour of the shipwreck recovery narrated by discoverer Barry Clifford. \nVoyage through pirate history with a museum over 300 years in the making! Real Pirates Salem features real artifacts and treasure from the shipwrecked Whydah Gally. From lore to legendary find\, see and touch the world’s only authenticated pirate treasure ever discovered – including coins\, cannons\, and weapons – recovered from the ocean floor by underwater explorer Barry Clifford. \nExperience includes: Two free photo booth memory moments\, so that you can download and take your journey home with you. Interactive stations to test your pirate abilities and a spot to touch real silver pieces of eight discovered at the Whydah wreck site. Exploration of the Discovery Lab to learn about the archaeological preservation process of centuries-old artifacts pulled from the depths.
URL:https://creativecollectivema.com/event/directors-tour-experience-10/2026-05-04/
LOCATION:Real Pirates Museum\, 285 Derby Street\, Salem\, 01970
CATEGORIES:All Ages,Arts/Culture,Family,Heritage,History,Kids,Museums,Pirate,Salem,Special Tour,Tour
ATTACH;FMTTYPE=image/jpeg:https://creativecollectivema.com/wp-content/uploads/2025/08/306088669_128629746599408_5652453212971783908_n.jpg
ORGANIZER;CN="Real Pirates Salem":MAILTO:info@realpiratessalem.com
END:VEVENT
BEGIN:VEVENT
DTSTART;TZID=America/New_York:20260511T103000
DTEND;TZID=America/New_York:20260511T123000
DTSTAMP:20260422T065539
CREATED:20260301T051214Z
LAST-MODIFIED:20260301T051214Z
UID:10058972-1778495400-1778502600@creativecollectivema.com
SUMMARY:Director’s Tour Experience
DESCRIPTION:Personal guided tour of the museum with one of our knowledgeable pirates\, who will give you the “ins and outs” of the museum – including facts that might otherwise pass you by. Gold coin for each member of your boarding party that secures you $5 off $10 or more in our Plundered Goods gift shop. Complimentary postcard with access to an audio tour of the shipwreck recovery narrated by discoverer Barry Clifford. \nVoyage through pirate history with a museum over 300 years in the making! Real Pirates Salem features real artifacts and treasure from the shipwrecked Whydah Gally. From lore to legendary find\, see and touch the world’s only authenticated pirate treasure ever discovered – including coins\, cannons\, and weapons – recovered from the ocean floor by underwater explorer Barry Clifford. \nExperience includes: Two free photo booth memory moments\, so that you can download and take your journey home with you. Interactive stations to test your pirate abilities and a spot to touch real silver pieces of eight discovered at the Whydah wreck site. Exploration of the Discovery Lab to learn about the archaeological preservation process of centuries-old artifacts pulled from the depths.
URL:https://creativecollectivema.com/event/directors-tour-experience-11/2026-05-11/
LOCATION:Real Pirates Museum\, 285 Derby Street\, Salem\, 01970
CATEGORIES:All Ages,Arts/Culture,Family,Heritage,History,Kids,Museums,Pirate,Salem,Special Tour,Tour
ATTACH;FMTTYPE=image/jpeg:https://creativecollectivema.com/wp-content/uploads/2025/08/306088669_128629746599408_5652453212971783908_n.jpg
ORGANIZER;CN="Real Pirates Salem":MAILTO:info@realpiratessalem.com
END:VEVENT
BEGIN:VEVENT
DTSTART;TZID=America/New_York:20260518T103000
DTEND;TZID=America/New_York:20260518T123000
DTSTAMP:20260422T065539
CREATED:20260301T051335Z
LAST-MODIFIED:20260301T051335Z
UID:10058986-1779100200-1779107400@creativecollectivema.com
SUMMARY:Director’s Tour Experience
DESCRIPTION:Personal guided tour of the museum with one of our knowledgeable pirates\, who will give you the “ins and outs” of the museum – including facts that might otherwise pass you by. Gold coin for each member of your boarding party that secures you $5 off $10 or more in our Plundered Goods gift shop. Complimentary postcard with access to an audio tour of the shipwreck recovery narrated by discoverer Barry Clifford. \nVoyage through pirate history with a museum over 300 years in the making! Real Pirates Salem features real artifacts and treasure from the shipwrecked Whydah Gally. From lore to legendary find\, see and touch the world’s only authenticated pirate treasure ever discovered – including coins\, cannons\, and weapons – recovered from the ocean floor by underwater explorer Barry Clifford. \nExperience includes: Two free photo booth memory moments\, so that you can download and take your journey home with you. Interactive stations to test your pirate abilities and a spot to touch real silver pieces of eight discovered at the Whydah wreck site. Exploration of the Discovery Lab to learn about the archaeological preservation process of centuries-old artifacts pulled from the depths.
URL:https://creativecollectivema.com/event/directors-tour-experience-12/2026-05-18/
LOCATION:Real Pirates Museum\, 285 Derby Street\, Salem\, 01970
CATEGORIES:All Ages,Arts/Culture,Family,Heritage,History,Kids,Museums,Pirate,Salem,Special Tour,Tour
ATTACH;FMTTYPE=image/jpeg:https://creativecollectivema.com/wp-content/uploads/2025/08/306088669_128629746599408_5652453212971783908_n.jpg
ORGANIZER;CN="Real Pirates Salem":MAILTO:info@realpiratessalem.com
END:VEVENT
BEGIN:VEVENT
DTSTART;TZID=America/New_York:20260525T103000
DTEND;TZID=America/New_York:20260525T123000
DTSTAMP:20260422T065539
CREATED:20260301T051451Z
LAST-MODIFIED:20260301T051451Z
UID:10059000-1779705000-1779712200@creativecollectivema.com
SUMMARY:Director’s Tour Experience
DESCRIPTION:Personal guided tour of the museum with one of our knowledgeable pirates\, who will give you the “ins and outs” of the museum – including facts that might otherwise pass you by. Gold coin for each member of your boarding party that secures you $5 off $10 or more in our Plundered Goods gift shop. Complimentary postcard with access to an audio tour of the shipwreck recovery narrated by discoverer Barry Clifford. \nVoyage through pirate history with a museum over 300 years in the making! Real Pirates Salem features real artifacts and treasure from the shipwrecked Whydah Gally. From lore to legendary find\, see and touch the world’s only authenticated pirate treasure ever discovered – including coins\, cannons\, and weapons – recovered from the ocean floor by underwater explorer Barry Clifford. \nExperience includes: Two free photo booth memory moments\, so that you can download and take your journey home with you. Interactive stations to test your pirate abilities and a spot to touch real silver pieces of eight discovered at the Whydah wreck site. Exploration of the Discovery Lab to learn about the archaeological preservation process of centuries-old artifacts pulled from the depths.
URL:https://creativecollectivema.com/event/directors-tour-experience-13/2026-05-25/
LOCATION:Real Pirates Museum\, 285 Derby Street\, Salem\, 01970
CATEGORIES:All Ages,Arts/Culture,Family,Heritage,History,Kids,Museums,Pirate,Salem,Special Tour,Tour
ATTACH;FMTTYPE=image/jpeg:https://creativecollectivema.com/wp-content/uploads/2025/08/306088669_128629746599408_5652453212971783908_n.jpg
ORGANIZER;CN="Real Pirates Salem":MAILTO:info@realpiratessalem.com
END:VEVENT
END:VCALENDAR