BEGIN:VCALENDAR
VERSION:2.0
PRODID:-//Creative Collective - ECPv6.15.20//NONSGML v1.0//EN
CALSCALE:GREGORIAN
METHOD:PUBLISH
X-ORIGINAL-URL:https://creativecollectivema.com
X-WR-CALDESC:Events for Creative Collective
REFRESH-INTERVAL;VALUE=DURATION:PT1H
X-Robots-Tag:noindex
X-PUBLISHED-TTL:PT1H
BEGIN:VTIMEZONE
TZID:America/New_York
BEGIN:DAYLIGHT
TZOFFSETFROM:-0500
TZOFFSETTO:-0400
TZNAME:EDT
DTSTART:20250309T070000
END:DAYLIGHT
BEGIN:STANDARD
TZOFFSETFROM:-0400
TZOFFSETTO:-0500
TZNAME:EST
DTSTART:20251102T060000
END:STANDARD
BEGIN:DAYLIGHT
TZOFFSETFROM:-0500
TZOFFSETTO:-0400
TZNAME:EDT
DTSTART:20260308T070000
END:DAYLIGHT
BEGIN:STANDARD
TZOFFSETFROM:-0400
TZOFFSETTO:-0500
TZNAME:EST
DTSTART:20261101T060000
END:STANDARD
BEGIN:DAYLIGHT
TZOFFSETFROM:-0500
TZOFFSETTO:-0400
TZNAME:EDT
DTSTART:20270314T070000
END:DAYLIGHT
BEGIN:STANDARD
TZOFFSETFROM:-0400
TZOFFSETTO:-0500
TZNAME:EST
DTSTART:20271107T060000
END:STANDARD
END:VTIMEZONE
BEGIN:VEVENT
DTSTART;TZID=America/New_York:20260516T090000
DTEND;TZID=America/New_York:20260516T170000
DTSTAMP:20260419T101007
CREATED:20260411T003813Z
LAST-MODIFIED:20260411T003813Z
UID:10061371-1778922000-1778950800@creativecollectivema.com
SUMMARY:Motif No.1 Day
DESCRIPTION:The Greater Cape Ann Chamber invites you to join us for Motif No. 1 Day as we celebrate Rockport’s unique identity as both a historic fishing village and a vibrant artist destination. Centered around the iconic red fishing shack—long a favorite subject for painters and photographers—this beloved annual event brings together the very spirit of Rockport: coastal beauty\, creative energy\, and community pride. \nStroll through town as artists set up along the harbor capturing Motif No. 1 and Rockport’s stunning waterfront in real time. Enjoy live music\, street performances\, family-friendly art activities\, and pop-up experiences that unfold throughout the day. From Dock Square to Bearskin Neck and beyond\, there’s always something happening just around the corner. \nExplore galleries\, discover local shops\, and experience the charm that has inspired generations of artists. Whether you’re watching a painting come to life\, enjoying a performance\, or simply taking in the view\, Motif No. 1 Day invites you to slow down\, look closer\, and connect with what makes Rockport so special.
URL:https://creativecollectivema.com/event/motif-no-1-day/
LOCATION:Downtown Rockport\, Rockport\, MA\, United States
CATEGORIES:Arts/Crafts,Celebration,Community,Entertainment,Family,Food & Drinks,Gallery,Kids,Live Music,Rockport,Shopping
ATTACH;FMTTYPE=image/png:https://creativecollectivema.com/wp-content/uploads/2026/04/Save-the-Date.png
ORGANIZER;CN="Greater Cape Ann Chamber of Commerce":MAILTO:info@capeannchamber.com
GEO:42.640373;-70.599488
END:VEVENT
END:VCALENDAR