BEGIN:VCALENDAR
VERSION:2.0
PRODID:-//Creative Collective - ECPv6.15.20//NONSGML v1.0//EN
CALSCALE:GREGORIAN
METHOD:PUBLISH
X-ORIGINAL-URL:https://creativecollectivema.com
X-WR-CALDESC:Events for Creative Collective
REFRESH-INTERVAL;VALUE=DURATION:PT1H
X-Robots-Tag:noindex
X-PUBLISHED-TTL:PT1H
BEGIN:VTIMEZONE
TZID:America/New_York
BEGIN:DAYLIGHT
TZOFFSETFROM:-0500
TZOFFSETTO:-0400
TZNAME:EDT
DTSTART:20250309T070000
END:DAYLIGHT
BEGIN:STANDARD
TZOFFSETFROM:-0400
TZOFFSETTO:-0500
TZNAME:EST
DTSTART:20251102T060000
END:STANDARD
BEGIN:DAYLIGHT
TZOFFSETFROM:-0500
TZOFFSETTO:-0400
TZNAME:EDT
DTSTART:20260308T070000
END:DAYLIGHT
BEGIN:STANDARD
TZOFFSETFROM:-0400
TZOFFSETTO:-0500
TZNAME:EST
DTSTART:20261101T060000
END:STANDARD
BEGIN:DAYLIGHT
TZOFFSETFROM:-0500
TZOFFSETTO:-0400
TZNAME:EDT
DTSTART:20270314T070000
END:DAYLIGHT
BEGIN:STANDARD
TZOFFSETFROM:-0400
TZOFFSETTO:-0500
TZNAME:EST
DTSTART:20271107T060000
END:STANDARD
END:VTIMEZONE
BEGIN:VEVENT
DTSTART;TZID=America/New_York:20260423T100000
DTEND;TZID=America/New_York:20260423T143000
DTSTAMP:20260423T051420
CREATED:20260301T032040Z
LAST-MODIFIED:20260301T033447Z
UID:10058416-1776938400-1776954600@creativecollectivema.com
SUMMARY:Witch City Broom Making Workshop
DESCRIPTION:Gather Witches and Warlocks! Come create a unique witches broom for your home or your altar. We walk you through designing and decorating your own custom witchcraft souvenir broom to bring a little bit of magic of Salem to bring home with you. We offer unique colors and design accessories to customize your own broom including trinkets and charms\, colorful ribbons and colorful broomcorn. We teach you how to masterfully wrap your broom\, attach various charms and earthly elements for protection\, or to ward off evil\, or propagating good luck and good fortune\, and to repel spells from others if need be. Our knowledgeable local Salem instructors will help you every step of the way. So come with an open heart\, a little creativity\, and we’ll help you create a fun memorable witchcraft souvenir from Salem.
URL:https://creativecollectivema.com/event/witch-city-broom-making-workshop-9/2026-04-23/
LOCATION:Witch City Broom Co.\, 246 Essex St\, Salem\, MA\, 01970\, United States
CATEGORIES:Arts/Crafts,Broom Decorating,Broom Making,Decorate,DIY,Salem,Witch,Workshops
ATTACH;FMTTYPE=image/jpeg:https://creativecollectivema.com/wp-content/uploads/2025/11/original-BB02BA41-C2D7-40F4-9629-7973DBCBA1F1.jpeg
ORGANIZER;CN="Witch City Walking Tours":MAILTO:info@witchcitywalkingtours.com
END:VEVENT
BEGIN:VEVENT
DTSTART;TZID=America/New_York:20260427T100000
DTEND;TZID=America/New_York:20260427T143000
DTSTAMP:20260423T051420
CREATED:20260301T033950Z
LAST-MODIFIED:20260301T033950Z
UID:10058347-1777284000-1777300200@creativecollectivema.com
SUMMARY:Witch City Broom Making Workshop
DESCRIPTION:Gather Witches and Warlocks! Come create a unique witches broom for your home or your altar. We walk you through designing and decorating your own custom witchcraft souvenir broom to bring a little bit of magic of Salem to bring home with you. We offer unique colors and design accessories to customize your own broom including trinkets and charms\, colorful ribbons and colorful broomcorn. We teach you how to masterfully wrap your broom\, attach various charms and earthly elements for protection\, or to ward off evil\, or propagating good luck and good fortune\, and to repel spells from others if need be. Our knowledgeable local Salem instructors will help you every step of the way. So come with an open heart\, a little creativity\, and we’ll help you create a fun memorable witchcraft souvenir from Salem.
URL:https://creativecollectivema.com/event/witch-city-broom-making-workshop-11/2026-04-27/
LOCATION:Witch City Broom Co.\, 246 Essex St\, Salem\, MA\, 01970\, United States
CATEGORIES:Arts/Crafts,Broom Decorating,Broom Making,Decorate,DIY,Salem,Witch,Workshops
ATTACH;FMTTYPE=image/jpeg:https://creativecollectivema.com/wp-content/uploads/2025/11/original-BB02BA41-C2D7-40F4-9629-7973DBCBA1F1.jpeg
ORGANIZER;CN="Witch City Walking Tours":MAILTO:info@witchcitywalkingtours.com
END:VEVENT
BEGIN:VEVENT
DTSTART;TZID=America/New_York:20260504T100000
DTEND;TZID=America/New_York:20260504T143000
DTSTAMP:20260423T051420
CREATED:20260301T034054Z
LAST-MODIFIED:20260301T034054Z
UID:10058433-1777888800-1777905000@creativecollectivema.com
SUMMARY:Witch City Broom Making Workshop
DESCRIPTION:Gather Witches and Warlocks! Come create a unique witches broom for your home or your altar. We walk you through designing and decorating your own custom witchcraft souvenir broom to bring a little bit of magic of Salem to bring home with you. We offer unique colors and design accessories to customize your own broom including trinkets and charms\, colorful ribbons and colorful broomcorn. We teach you how to masterfully wrap your broom\, attach various charms and earthly elements for protection\, or to ward off evil\, or propagating good luck and good fortune\, and to repel spells from others if need be. Our knowledgeable local Salem instructors will help you every step of the way. So come with an open heart\, a little creativity\, and we’ll help you create a fun memorable witchcraft souvenir from Salem.
URL:https://creativecollectivema.com/event/witch-city-broom-making-workshop-14/2026-05-04/
LOCATION:Witch City Broom Co.\, 246 Essex St\, Salem\, MA\, 01970\, United States
CATEGORIES:Arts/Crafts,Broom Decorating,Broom Making,Decorate,DIY,Salem,Witch,Workshops
ATTACH;FMTTYPE=image/jpeg:https://creativecollectivema.com/wp-content/uploads/2025/11/original-BB02BA41-C2D7-40F4-9629-7973DBCBA1F1.jpeg
ORGANIZER;CN="Witch City Walking Tours":MAILTO:info@witchcitywalkingtours.com
END:VEVENT
BEGIN:VEVENT
DTSTART;TZID=America/New_York:20260504T100000
DTEND;TZID=America/New_York:20260510T143000
DTSTAMP:20260423T051420
CREATED:20260301T032142Z
LAST-MODIFIED:20260301T032142Z
UID:10058362-1777888800-1778423400@creativecollectivema.com
SUMMARY:Witch City Broom Making Workshop
DESCRIPTION:Gather Witches and Warlocks! Come create a unique witches broom for your home or your altar. We walk you through designing and decorating your own custom witchcraft souvenir broom to bring a little bit of magic of Salem to bring home with you. We offer unique colors and design accessories to customize your own broom including trinkets and charms\, colorful ribbons and colorful broomcorn. We teach you how to masterfully wrap your broom\, attach various charms and earthly elements for protection\, or to ward off evil\, or propagating good luck and good fortune\, and to repel spells from others if need be. Our knowledgeable local Salem instructors will help you every step of the way. So come with an open heart\, a little creativity\, and we’ll help you create a fun memorable witchcraft souvenir from Salem.
URL:https://creativecollectivema.com/event/witch-city-broom-making-workshop-10/
LOCATION:Witch City Broom Co.\, 246 Essex St\, Salem\, MA\, 01970\, United States
CATEGORIES:Arts/Crafts,Broom Decorating,Broom Making,Decorate,DIY,Salem,Witch,Workshops
ATTACH;FMTTYPE=image/jpeg:https://creativecollectivema.com/wp-content/uploads/2025/11/original-BB02BA41-C2D7-40F4-9629-7973DBCBA1F1.jpeg
ORGANIZER;CN="Witch City Walking Tours":MAILTO:info@witchcitywalkingtours.com
END:VEVENT
BEGIN:VEVENT
DTSTART;TZID=America/New_York:20260511T100000
DTEND;TZID=America/New_York:20260511T143000
DTSTAMP:20260423T051420
CREATED:20260301T034155Z
LAST-MODIFIED:20260301T034155Z
UID:10058447-1778493600-1778509800@creativecollectivema.com
SUMMARY:Witch City Broom Making Workshop
DESCRIPTION:Gather Witches and Warlocks! Come create a unique witches broom for your home or your altar. We walk you through designing and decorating your own custom witchcraft souvenir broom to bring a little bit of magic of Salem to bring home with you. We offer unique colors and design accessories to customize your own broom including trinkets and charms\, colorful ribbons and colorful broomcorn. We teach you how to masterfully wrap your broom\, attach various charms and earthly elements for protection\, or to ward off evil\, or propagating good luck and good fortune\, and to repel spells from others if need be. Our knowledgeable local Salem instructors will help you every step of the way. So come with an open heart\, a little creativity\, and we’ll help you create a fun memorable witchcraft souvenir from Salem.
URL:https://creativecollectivema.com/event/witch-city-broom-making-workshop-15/2026-05-11/
LOCATION:Witch City Broom Co.\, 246 Essex St\, Salem\, MA\, 01970\, United States
CATEGORIES:Arts/Crafts,Broom Decorating,Broom Making,Decorate,DIY,Salem,Witch,Workshops
ATTACH;FMTTYPE=image/jpeg:https://creativecollectivema.com/wp-content/uploads/2025/11/original-BB02BA41-C2D7-40F4-9629-7973DBCBA1F1.jpeg
ORGANIZER;CN="Witch City Walking Tours":MAILTO:info@witchcitywalkingtours.com
END:VEVENT
BEGIN:VEVENT
DTSTART;TZID=America/New_York:20260518T100000
DTEND;TZID=America/New_York:20260518T143000
DTSTAMP:20260423T051420
CREATED:20260301T032442Z
LAST-MODIFIED:20260301T032442Z
UID:10058390-1779098400-1779114600@creativecollectivema.com
SUMMARY:Witch City Broom Making Workshop
DESCRIPTION:Gather Witches and Warlocks! Come create a unique witches broom for your home or your altar. We walk you through designing and decorating your own custom witchcraft souvenir broom to bring a little bit of magic of Salem to bring home with you. We offer unique colors and design accessories to customize your own broom including trinkets and charms\, colorful ribbons and colorful broomcorn. We teach you how to masterfully wrap your broom\, attach various charms and earthly elements for protection\, or to ward off evil\, or propagating good luck and good fortune\, and to repel spells from others if need be. Our knowledgeable local Salem instructors will help you every step of the way. So come with an open heart\, a little creativity\, and we’ll help you create a fun memorable witchcraft souvenir from Salem.
URL:https://creativecollectivema.com/event/witch-city-broom-making-workshop-12/2026-05-18/
LOCATION:Witch City Broom Co.\, 246 Essex St\, Salem\, MA\, 01970\, United States
CATEGORIES:Arts/Crafts,Broom Decorating,Broom Making,Decorate,DIY,Salem,Witch,Workshops
ATTACH;FMTTYPE=image/jpeg:https://creativecollectivema.com/wp-content/uploads/2025/11/original-BB02BA41-C2D7-40F4-9629-7973DBCBA1F1.jpeg
ORGANIZER;CN="Witch City Walking Tours":MAILTO:info@witchcitywalkingtours.com
END:VEVENT
BEGIN:VEVENT
DTSTART;TZID=America/New_York:20260525T100000
DTEND;TZID=America/New_York:20260525T143000
DTSTAMP:20260423T051420
CREATED:20260301T032555Z
LAST-MODIFIED:20260301T032555Z
UID:10058404-1779703200-1779719400@creativecollectivema.com
SUMMARY:Witch City Broom Making Workshop
DESCRIPTION:Gather Witches and Warlocks! Come create a unique witches broom for your home or your altar. We walk you through designing and decorating your own custom witchcraft souvenir broom to bring a little bit of magic of Salem to bring home with you. We offer unique colors and design accessories to customize your own broom including trinkets and charms\, colorful ribbons and colorful broomcorn. We teach you how to masterfully wrap your broom\, attach various charms and earthly elements for protection\, or to ward off evil\, or propagating good luck and good fortune\, and to repel spells from others if need be. Our knowledgeable local Salem instructors will help you every step of the way. So come with an open heart\, a little creativity\, and we’ll help you create a fun memorable witchcraft souvenir from Salem.
URL:https://creativecollectivema.com/event/witch-city-broom-making-workshop-13/2026-05-25/
LOCATION:Witch City Broom Co.\, 246 Essex St\, Salem\, MA\, 01970\, United States
CATEGORIES:Arts/Crafts,Broom Decorating,Broom Making,Decorate,DIY,Salem,Witch,Workshops
ATTACH;FMTTYPE=image/jpeg:https://creativecollectivema.com/wp-content/uploads/2025/11/original-BB02BA41-C2D7-40F4-9629-7973DBCBA1F1.jpeg
ORGANIZER;CN="Witch City Walking Tours":MAILTO:info@witchcitywalkingtours.com
END:VEVENT
BEGIN:VEVENT
DTSTART;TZID=America/New_York:20260601T100000
DTEND;TZID=America/New_York:20260601T143000
DTSTAMP:20260423T051420
CREATED:20260301T034350Z
LAST-MODIFIED:20260316T023917Z
UID:10060501-1780308000-1780324200@creativecollectivema.com
SUMMARY:Witch City Broom Making Workshop
DESCRIPTION:Gather Witches and Warlocks! Come create a unique witches broom for your home or your altar. We walk you through designing and decorating your own custom witchcraft souvenir broom to bring a little bit of magic of Salem to bring home with you. We offer unique colors and design accessories to customize your own broom including trinkets and charms\, colorful ribbons and colorful broomcorn. We teach you how to masterfully wrap your broom\, attach various charms and earthly elements for protection\, or to ward off evil\, or propagating good luck and good fortune\, and to repel spells from others if need be. Our knowledgeable local Salem instructors will help you every step of the way. So come with an open heart\, a little creativity\, and we’ll help you create a fun memorable witchcraft souvenir from Salem.
URL:https://creativecollectivema.com/event/witch-city-broom-making-workshop-17/2026-06-01/
LOCATION:Witch City Broom Co.\, 246 Essex St\, Salem\, MA\, 01970\, United States
CATEGORIES:Arts/Crafts,Broom Decorating,Broom Making,Decorate,DIY,Salem,Witch,Workshops
ATTACH;FMTTYPE=image/jpeg:https://creativecollectivema.com/wp-content/uploads/2025/11/original-BB02BA41-C2D7-40F4-9629-7973DBCBA1F1.jpeg
ORGANIZER;CN="Witch City Walking Tours":MAILTO:info@witchcitywalkingtours.com
END:VEVENT
END:VCALENDAR